BEGIN:VCALENDAR
PRODID:-//eluceo/ical//2.0/EN
VERSION:2.0
CALSCALE:GREGORIAN
BEGIN:VEVENT
UID:f6b77769f04fa23cbb0372d999a64ca9
DTSTAMP:20260420T085912Z
SUMMARY:Concert « Le trio Jenlis » (Harpe\, violon et violoncelle)
DESCRIPTION:
URL:https://tournai-trois-lys.rotary2150.org/nl/agenda/show/49131
DTSTART;TZID=Europe/Zurich:20221125T200000
DTEND;TZID=Europe/Zurich:20221125T235500
LOCATION:Église Saint Jacques\, Tournai
CATEGORIES:Rotary
END:VEVENT
BEGIN:VTIMEZONE
TZID:Europe/Zurich
BEGIN:STANDARD
DTSTART:20221125T200000
TZNAME:CET
TZOFFSETTO:+0100
TZOFFSETFROM:+0100
END:STANDARD
END:VTIMEZONE
END:VCALENDAR
